View In:
ArcGIS JavaScript
ArcGIS Online Map Viewer
ArcGIS Earth
ArcGIS Pro
Service Description: ÍSOR hefur gefið út jarðfræðikort í mælikvarðanum 1:100 000. Kortin byggjast á fjölmörgum jarðfræðikortum í stærri mælikvarða, sem unnin hafa verið fyrir verkkaupa ÍSOR og forvera þeirra, auk þess á eldri útgefnum yfirlitskortum. Vefþjónustan er hluti af átaksverkefni í jarðfræðikortlagningu Íslands sem umhverfis- og auðlindaráðuneytið (UAR) hefur staðið að síðan 2018 í samtarfi við Íslenskar orkurannsóknir (ÍSOR) og Náttúrufræðistofnun Íslands (NÍ). Frekari upplýsingar má fá hjá ÍSOR í tölvupósti
Map Name: Jarðfræði_100k
Legend
All Layers and Tables
Layers:
Description: ÍSOR hefur gefið út jarðfræðikort í mælikvarðanum 1:100 000. Kortin byggjast á fjölmörgum jarðfræðikortum í stærri mælikvarða, sem unnin hafa verið fyrir verkkaupa ÍSOR og forvera þeirra, auk þess á eldri útgefnum yfirlitskortum. Vefþjónustan er hluti af átaksverkefni í jarðfræðikortlagningu Íslands sem umhverfis- og auðlindaráðuneytið (UAR) hefur staðið að síðan 2018 í samtarfi við Íslenskar orkurannsóknir (ÍSOR) og Náttúrufræðistofnun Íslands (NÍ). Frekari upplýsingar má fá hjá ÍSOR í tölvupósti
Service Item Id: 3301e8ccd2e24d5fbae0c59d9b5a8ee1
Copyright Text: ÍSOR 2012-2022
Spatial Reference:
102100
(3857)
Single Fused Map Cache: true
Tile Info:
- Height: 256
- Width: 256
- DPI: 96
-
Levels of Detail: 24
-
Level ID: 1
[ Start Tile, End Tile ]
- Resolution: 78271.5169639999
- Scale: 2.95828763795777E8
-
Level ID: 2
[ Start Tile, End Tile ]
- Resolution: 39135.7584820001
- Scale: 1.47914381897889E8
-
Level ID: 3
[ Start Tile, End Tile ]
- Resolution: 19567.8792409999
- Scale: 7.3957190948944E7
-
Level ID: 4
[ Start Tile, End Tile ]
- Resolution: 9783.93962049996
- Scale: 3.6978595474472E7
-
Level ID: 5
[ Start Tile, End Tile ]
- Resolution: 4891.96981024998
- Scale: 1.8489297737236E7
- Format: PNG
- Compression Quality: 0.0
- Origin: X: -2.0037508342787E7
Y: 2.0037508342787E7
- Spatial Reference: 102100
(3857)
Storage Info:
- Storage Format: esriMapCacheStorageModeCompactV2
- Packet Size: 128
Initial Extent:
XMin: -2769677.957538277
YMin: 9144297.881231584
XMax: -1574151.2125207847
YMax: 1.004164951608514E7
Spatial Reference: 102100
Full Extent:
XMin: -2589087.774878098
YMin: 9185212.093779596
XMax: -1545751.431426436
YMax: 1.0034439856853753E7
Spatial Reference: 102100
Units: esriMeters
Supported Image Format Types: PNG32,PNG24,PNG,JPG,DIB,TIFF,EMF,PS,PDF,GIF,SVG,SVGZ,BMP
Document Info:
Title: jardfraedi_100k.aprx
Author:
Comments: ÍSOR hefur gefið út jarðfræðikort í mælikvarðanum 1:100 000. Kortin byggjast á fjölmörgum jarðfræðikortum í stærri mælikvarða, sem unnin hafa verið fyrir verkkaupa ÍSOR og forvera þeirra, auk þess á eldri útgefnum yfirlitskortum. Vefþjónustan er hluti af átaksverkefni í jarðfræðikortlagningu Íslands sem umhverfis- og auðlindaráðuneytið (UAR) hefur staðið að síðan 2018 í samtarfi við Íslenskar orkurannsóknir (ÍSOR) og Náttúrufræðistofnun Íslands (NÍ). Frekari upplýsingar má fá hjá ÍSOR í tölvupósti
Subject: Samantekt á gögnum sem sýnd eru á jarðfræðikortum ÍSOR
Category:
Keywords: jardfræði; Ísland; Iceland;
AntialiasingMode: Fast
TextAntialiasingMode: Force
Supports Dynamic Layers: false
MaxRecordCount: 1000
MaxImageHeight: 4096
MaxImageWidth: 4096
Supported Query Formats: JSON, geoJSON, PBF
Supports Query Data Elements: true
Min Scale: 147914381
Max Scale: 4622324
Min LOD: 2
Max LOD: 7
Supports Datum Transformation: true
Child Resources:
Info
Supported Operations:
QueryLegends
Return Updates