{
 "currentVersion": 11.1,
 "cimVersion": "3.1.0",
 "serviceDescription": "ÍSOR hefur gefið út jarðfræðikort í mælikvarðanum 1:100 000. Kortin byggjast á fjölmörgum jarðfræðikortum í stærri mælikvarða, sem unnin hafa verið fyrir verkkaupa ÍSOR og forvera þeirra, auk þess á eldri útgefnum yfirlitskortum. \n\nVefþjónustan er hluti af átaksverkefni í jarðfræðikortlagningu Íslands sem umhverfis- og auðlindaráðuneytið (UAR) hefur staðið að síðan 2018 í samtarfi við Íslenskar orkurannsóknir (ÍSOR) og Náttúrufræðistofnun Íslands (NÍ). \n\nFrekari upplýsingar má fá hjá ÍSOR í tölvupósti",
 "mapName": "Jarðfræði_100k",
 "description": "ÍSOR hefur gefið út jarðfræðikort í mælikvarðanum 1:100 000. Kortin byggjast á fjölmörgum jarðfræðikortum í stærri mælikvarða, sem unnin hafa verið fyrir verkkaupa ÍSOR og forvera þeirra, auk þess á eldri útgefnum yfirlitskortum. \n\nVefþjónustan er hluti af átaksverkefni í jarðfræðikortlagningu Íslands sem umhverfis- og auðlindaráðuneytið (UAR) hefur staðið að síðan 2018 í samtarfi við Íslenskar orkurannsóknir (ÍSOR) og Náttúrufræðistofnun Íslands (NÍ). \n\nFrekari upplýsingar má fá hjá ÍSOR í tölvupósti",
 "copyrightText": "ÍSOR 2012-2022",
 "supportsDynamicLayers": false,
 "layers": [
  {
   "id": 0,
   "name": "Brot",
   "parentLayerId": -1,
   "defaultVisibility": true,
   "subLayerIds": null,
   "minScale": 10000000,
   "maxScale": 0,
   "type": "Feature Layer",
   "geometryType": "esriGeometryPolyline",
   "supportsDynamicLegends": true
  },
  {
   "id": 1,
   "name": "Táknlínur",
   "parentLayerId": -1,
   "defaultVisibility": true,
   "subLayerIds": null,
   "minScale": 10000000,
   "maxScale": 0,
   "type": "Feature Layer",
   "geometryType": "esriGeometryPolyline",
   "supportsDynamicLegends": true
  },
  {
   "id": 2,
   "name": "Berg og hraun línur",
   "parentLayerId": -1,
   "defaultVisibility": true,
   "subLayerIds": null,
   "minScale": 10000000,
   "maxScale": 0,
   "type": "Feature Layer",
   "geometryType": "esriGeometryPolyline",
   "supportsDynamicLegends": true
  },
  {
   "id": 3,
   "name": "Berg og hraun flákar",
   "parentLayerId": -1,
   "defaultVisibility": true,
   "subLayerIds": null,
   "minScale": 0,
   "maxScale": 0,
   "type": "Feature Layer",
   "geometryType": "esriGeometryPolygon",
   "supportsDynamicLegends": true
  }
 ],
 "tables": [],
 "spatialReference": {
  "wkid": 102100,
  "latestWkid": 3857,
  "xyTolerance": 0.001,
  "zTolerance": 0.001,
  "mTolerance": 0.001,
  "falseX": -20037700,
  "falseY": -30241100,
  "xyUnits": 10000,
  "falseZ": -100000,
  "zUnits": 10000,
  "falseM": -100000,
  "mUnits": 10000
 },
 "singleFusedMapCache": true,
 "tileInfo": {
  "rows": 256,
  "cols": 256,
  "dpi": 96,
  "format": "PNG",
  "compressionQuality": 0,
  "origin": {
   "x": -2.0037508342787E7,
   "y": 2.0037508342787E7
  },
  "spatialReference": {
   "wkid": 102100,
   "latestWkid": 3857,
   "xyTolerance": 0.001,
   "zTolerance": 0.001,
   "mTolerance": 0.001,
   "falseX": -20037700,
   "falseY": -30241100,
   "xyUnits": 1.4892314192838538E8,
   "falseZ": -100000,
   "zUnits": 10000,
   "falseM": -100000,
   "mUnits": 10000
  },
  "lods": [
   {
    "level": 0,
    "resolution": 156543.033928,
    "scale": 5.91657527591555E8
   },
   {
    "level": 1,
    "resolution": 78271.5169639999,
    "scale": 2.95828763795777E8
   },
   {
    "level": 2,
    "resolution": 39135.7584820001,
    "scale": 1.47914381897889E8
   },
   {
    "level": 3,
    "resolution": 19567.8792409999,
    "scale": 7.3957190948944E7
   },
   {
    "level": 4,
    "resolution": 9783.93962049996,
    "scale": 3.6978595474472E7
   },
   {
    "level": 5,
    "resolution": 4891.96981024998,
    "scale": 1.8489297737236E7
   },
   {
    "level": 6,
    "resolution": 2445.98490512499,
    "scale": 9244648.868618
   },
   {
    "level": 7,
    "resolution": 1222.99245256249,
    "scale": 4622324.434309
   },
   {
    "level": 8,
    "resolution": 611.49622628138,
    "scale": 2311162.217155
   },
   {
    "level": 9,
    "resolution": 305.748113140558,
    "scale": 1155581.108577
   },
   {
    "level": 10,
    "resolution": 152.874056570411,
    "scale": 577790.554289
   },
   {
    "level": 11,
    "resolution": 76.4370282850732,
    "scale": 288895.277144
   },
   {
    "level": 12,
    "resolution": 38.2185141425366,
    "scale": 144447.638572
   },
   {
    "level": 13,
    "resolution": 19.1092570712683,
    "scale": 72223.819286
   },
   {
    "level": 14,
    "resolution": 9.55462853563415,
    "scale": 36111.909643
   },
   {
    "level": 15,
    "resolution": 4.77731426794937,
    "scale": 18055.954822
   },
   {
    "level": 16,
    "resolution": 2.38865713397468,
    "scale": 9027.977411
   },
   {
    "level": 17,
    "resolution": 1.19432856685505,
    "scale": 4513.988705
   },
   {
    "level": 18,
    "resolution": 0.597164283559817,
    "scale": 2256.994353
   },
   {
    "level": 19,
    "resolution": 0.298582141647617,
    "scale": 1128.497176
   },
   {
    "level": 20,
    "resolution": 0.14929107082380833,
    "scale": 564.248588
   },
   {
    "level": 21,
    "resolution": 0.07464553541190416,
    "scale": 282.124294
   },
   {
    "level": 22,
    "resolution": 0.03732276770595208,
    "scale": 141.062147
   },
   {
    "level": 23,
    "resolution": 0.01866138385297604,
    "scale": 70.5310735
   }
  ]
 },
 "storageInfo": {
  "storageFormat": "esriMapCacheStorageModeCompactV2",
  "packetSize": 128
 },
 "initialExtent": {
  "xmin": -2769677.957538277,
  "ymin": 9144297.881231584,
  "xmax": -1574151.2125207847,
  "ymax": 1.004164951608514E7,
  "spatialReference": {
   "cs": "pcs",
   "wkid": 102100
  }
 },
 "fullExtent": {
  "xmin": -2589087.774878098,
  "ymin": 9185212.093779596,
  "xmax": -1545751.431426436,
  "ymax": 1.0034439856853753E7,
  "spatialReference": {
   "cs": "pcs",
   "wkid": 102100
  }
 },
 "datesInUnknownTimezone": false,
 "units": "esriMeters",
 "supportedImageFormatTypes": "PNG32,PNG24,PNG,JPG,DIB,TIFF,EMF,PS,PDF,GIF,SVG,SVGZ,BMP",
 "documentInfo": {
  "Title": "jardfraedi_100k.aprx",
  "Author": "",
  "Comments": "ÍSOR hefur gefið út jarðfræðikort í mælikvarðanum 1:100 000. Kortin byggjast á fjölmörgum jarðfræðikortum í stærri mælikvarða, sem unnin hafa verið fyrir verkkaupa ÍSOR og forvera þeirra, auk þess á eldri útgefnum yfirlitskortum. \n\nVefþjónustan er hluti af átaksverkefni í jarðfræðikortlagningu Íslands sem umhverfis- og auðlindaráðuneytið (UAR) hefur staðið að síðan 2018 í samtarfi við Íslenskar orkurannsóknir (ÍSOR) og Náttúrufræðistofnun Íslands (NÍ). \n\nFrekari upplýsingar má fá hjá ÍSOR í tölvupósti",
  "Subject": "Samantekt á gögnum sem sýnd eru á jarðfræðikortum ÍSOR",
  "Category": "",
  "Version": "3.1.0",
  "AntialiasingMode": "Fast",
  "TextAntialiasingMode": "Force",
  "Keywords": "jardfræði; Ísland; Iceland;"
 },
 "supportedQueryFormats": "JSON, geoJSON, PBF",
 "referenceScale": 0.0,
 "datumTransformations": [
  {
   "geoTransforms": [
    {
     "wkid": 1952,
     "latestWkid": 1952,
     "transformForward": true,
     "name": "ISN_1993_To_WGS_1984_1"
    }
   ]
  },
  {
   "geoTransforms": [
    {
     "wkid": 1952,
     "latestWkid": 1952,
     "transformForward": false,
     "name": "ISN_1993_To_WGS_1984_1"
    }
   ]
  }
 ],
 "supportsDatumTransformation": true,
 "archivingInfo": {
  "supportsHistoricMoment": false
 },
 "supportsClipping": true,
 "supportsSpatialFilter": true,
 "supportsTimeRelation": true,
 "supportsQueryDataElements": true,
 "mapUnits": {
  "uwkid": 9001
 },
 "maxRecordCount": 1000,
 "maxImageHeight": 4096,
 "maxImageWidth": 4096,
 "capabilities": "TilesOnly,Tilemap",
 "minScale": 147914381,
 "maxScale": 4622324,
 "exportTilesAllowed": false,
 "maxExportTilesCount": 100000,
 "minLOD": 2,
 "maxLOD": 7,
 "supportedExtensions": "",
 "serviceItemId": "3301e8ccd2e24d5fbae0c59d9b5a8ee1"
}
