View In:
ArcGIS JavaScript
ArcGIS Online Map Viewer
ArcGIS Earth
ArcGIS Pro
Service Description: ÍSOR hefur gefið út jarðfræðikort í mælikvarðanum 1:100 000. Kortin byggjast á fjölmörgum jarðfræðikortum í stærri mælikvarða, sem unnin hafa verið fyrir verkkaupa ÍSOR og forvera þeirra, auk þess á eldri útgefnum yfirlitskortum. Vefþjónustan er hluti af átaksverkefni í jarðfræðikortlagningu Íslands sem umhverfis- og auðlindaráðuneytið (UAR) hefur staðið að síðan 2018 í samtarfi við Íslenskar orkurannsóknir (ÍSOR) og Náttúrufræðistofnun Íslands (NÍ). Frekari upplýsingar má fá hjá ÍSOR í tölvupósti
Map Name: Jarðfræði_100k
Legend
All Layers and Tables
Dynamic Legend
Dynamic All Layers
Layers:
Description: ÍSOR hefur gefið út jarðfræðikort í mælikvarðanum 1:100 000. Kortin byggjast á fjölmörgum jarðfræðikortum í stærri mælikvarða, sem unnin hafa verið fyrir verkkaupa ÍSOR og forvera þeirra, auk þess á eldri útgefnum yfirlitskortum. Vefþjónustan er hluti af átaksverkefni í jarðfræðikortlagningu Íslands sem umhverfis- og auðlindaráðuneytið (UAR) hefur staðið að síðan 2018 í samtarfi við Íslenskar orkurannsóknir (ÍSOR) og Náttúrufræðistofnun Íslands (NÍ). Frekari upplýsingar má fá hjá ÍSOR í tölvupósti
Service Item Id: 4b611364ae30476cb12c56a240b76bc8
Copyright Text: ÍSOR 2012-2022
Spatial Reference:
102100
(3857)
Single Fused Map Cache: true
Tile Info:
- Height: 256
- Width: 256
- DPI: 96
-
Levels of Detail: 24
-
Level ID: 1
[ Start Tile, End Tile ]
- Resolution: 78271.5169639999
- Scale: 2.95828763795777E8
-
Level ID: 2
[ Start Tile, End Tile ]
- Resolution: 39135.7584820001
- Scale: 1.47914381897889E8
-
Level ID: 3
[ Start Tile, End Tile ]
- Resolution: 19567.8792409999
- Scale: 7.3957190948944E7
-
Level ID: 4
[ Start Tile, End Tile ]
- Resolution: 9783.93962049996
- Scale: 3.6978595474472E7
-
Level ID: 5
[ Start Tile, End Tile ]
- Resolution: 4891.96981024998
- Scale: 1.8489297737236E7
- Format: PNG
- Compression Quality: 0.0
- Origin: X: -2.0037508342787E7
Y: 2.0037508342787E7
- Spatial Reference: 102100
(3857)
Storage Info:
- Storage Format: esriMapCacheStorageModeCompactV2
- Packet Size: 128
Initial Extent:
XMin: -2317469.25965932
YMin: 9376290.364258029
XMax: -2026359.9103997415
YMax: 9809657.033058695
Spatial Reference: 102100
Full Extent:
XMin: -1.2604885360117555E7
YMin: -7805675.1560864905
XMax: -1505593.019960907
YMax: 1.0034439856722549E7
Spatial Reference: 102100
Units: esriMeters
Supported Image Format Types: PNG32,PNG24,PNG,JPG,DIB,TIFF,EMF,PS,PDF,GIF,SVG,SVGZ,BMP
Document Info:
Title: jardfraedi_100k.aprx
Author:
Comments: ÍSOR hefur gefið út jarðfræðikort í mælikvarðanum 1:100 000. Kortin byggjast á fjölmörgum jarðfræðikortum í stærri mælikvarða, sem unnin hafa verið fyrir verkkaupa ÍSOR og forvera þeirra, auk þess á eldri útgefnum yfirlitskortum. Vefþjónustan er hluti af átaksverkefni í jarðfræðikortlagningu Íslands sem umhverfis- og auðlindaráðuneytið (UAR) hefur staðið að síðan 2018 í samtarfi við Íslenskar orkurannsóknir (ÍSOR) og Náttúrufræðistofnun Íslands (NÍ). Frekari upplýsingar má fá hjá ÍSOR í tölvupósti
Subject: Samantekt á gögnum sem sýnd eru á jarðfræðikortum ÍSOR
Category:
Keywords: jardfræði,Ísland,Iceland
AntialiasingMode: Fast
TextAntialiasingMode: Force
Supports Dynamic Layers: true
MaxRecordCount: 2000
MaxImageHeight: 4096
MaxImageWidth: 4096
Supported Query Formats: JSON, geoJSON, PBF
Supports Query Data Elements: true
Min Scale: 4622324.434309
Max Scale: 36111.909643
Min LOD: 7
Max LOD: 14
Supports Datum Transformation: true
Child Resources:
Info
Dynamic Layer
Supported Operations:
Export Map
Identify
QueryLegends
QueryDomains
Find
Return Updates