{
 "currentVersion": 11.2,
 "cimVersion": "3.2.0",
 "serviceDescription": "ÍSOR hefur gefið út jarðfræðikort í mælikvarðanum 1:100 000. Kortin byggjast á fjölmörgum jarðfræðikortum í stærri mælikvarða, sem unnin hafa verið fyrir verkkaupa ÍSOR og forvera þeirra, auk þess á eldri útgefnum yfirlitskortum. \n\nVefþjónustan er hluti af átaksverkefni í jarðfræðikortlagningu Íslands sem umhverfis- og auðlindaráðuneytið (UAR) hefur staðið að síðan 2018 í samtarfi við Íslenskar orkurannsóknir (ÍSOR) og Náttúrufræðistofnun Íslands (NÍ). \n\nFrekari upplýsingar má fá hjá ÍSOR í tölvupósti",
 "mapName": "jarðfræði 100k",
 "description": "ÍSOR hefur gefið út jarðfræðikort í mælikvarðanum 1:100 000. Kortin byggjast á fjölmörgum jarðfræðikortum í stærri mælikvarða, sem unnin hafa verið fyrir verkkaupa ÍSOR og forvera þeirra, auk þess á eldri útgefnum yfirlitskortum. \n\nVefþjónustan er hluti af átaksverkefni í jarðfræðikortlagningu Íslands sem umhverfis- og auðlindaráðuneytið (UAR) hefur staðið að síðan 2018 í samtarfi við Íslenskar orkurannsóknir (ÍSOR) og Náttúrufræðistofnun Íslands (NÍ). \n\nFrekari upplýsingar má fá hjá ÍSOR í tölvupósti",
 "copyrightText": "ÍSOR 2012-2022",
 "supportsDynamicLayers": false,
 "layers": [
  {
   "id": 0,
   "name": "Jarðfræði línur",
   "parentLayerId": -1,
   "defaultVisibility": true,
   "subLayerIds": [
    1,
    2,
    3
   ],
   "minScale": 0,
   "maxScale": 0,
   "type": "Group Layer",
   "supportsDynamicLegends": false
  },
  {
   "id": 1,
   "name": "Brot",
   "parentLayerId": 0,
   "defaultVisibility": true,
   "subLayerIds": null,
   "minScale": 1000000,
   "maxScale": 50000,
   "type": "Feature Layer",
   "geometryType": "esriGeometryPolyline",
   "supportsDynamicLegends": true
  },
  {
   "id": 2,
   "name": "Táknlínur",
   "parentLayerId": 0,
   "defaultVisibility": true,
   "subLayerIds": null,
   "minScale": 1000000,
   "maxScale": 50000,
   "type": "Feature Layer",
   "geometryType": "esriGeometryPolyline",
   "supportsDynamicLegends": true
  },
  {
   "id": 3,
   "name": "Berg og hraun línur",
   "parentLayerId": 0,
   "defaultVisibility": true,
   "subLayerIds": null,
   "minScale": 1000000,
   "maxScale": 50000,
   "type": "Feature Layer",
   "geometryType": "esriGeometryPolyline",
   "supportsDynamicLegends": true
  },
  {
   "id": 4,
   "name": "Flákar",
   "parentLayerId": -1,
   "defaultVisibility": true,
   "subLayerIds": [
    5
   ],
   "minScale": 0,
   "maxScale": 0,
   "type": "Group Layer",
   "supportsDynamicLegends": false
  },
  {
   "id": 5,
   "name": "Berg og hraun flákar",
   "parentLayerId": 4,
   "defaultVisibility": true,
   "subLayerIds": null,
   "minScale": 6000000,
   "maxScale": 50000,
   "type": "Feature Layer",
   "geometryType": "esriGeometryPolygon",
   "supportsDynamicLegends": true
  }
 ],
 "tables": [],
 "spatialReference": {
  "wkid": 3057,
  "latestWkid": 3057,
  "xyTolerance": 0.001,
  "zTolerance": 0.001,
  "mTolerance": 0.001,
  "falseX": -34541500,
  "falseY": -31559400,
  "xyUnits": 10000,
  "falseZ": 0,
  "zUnits": 1,
  "falseM": 0,
  "mUnits": 1
 },
 "singleFusedMapCache": true,
 "tileInfo": {
  "rows": 512,
  "cols": 512,
  "dpi": 96,
  "format": "PNG",
  "compressionQuality": 75,
  "origin": {
   "x": 238428,
   "y": 713821
  },
  "spatialReference": {
   "wkid": 3057,
   "latestWkid": 3057,
   "xyTolerance": 0.001,
   "zTolerance": 0.001,
   "mTolerance": 0.001,
   "falseX": -34541500,
   "falseY": -31559400,
   "xyUnits": 10000,
   "falseZ": 0,
   "zUnits": 1,
   "falseM": 0,
   "mUnits": 1
  },
  "lods": [
   {
    "level": 0,
    "resolution": 2048,
    "scale": 7740456.96
   },
   {
    "level": 1,
    "resolution": 1024,
    "scale": 3870228.48
   },
   {
    "level": 2,
    "resolution": 512,
    "scale": 1935114.24
   },
   {
    "level": 3,
    "resolution": 256,
    "scale": 967557.12
   },
   {
    "level": 4,
    "resolution": 128,
    "scale": 483778.56
   },
   {
    "level": 5,
    "resolution": 64,
    "scale": 241889.28
   },
   {
    "level": 6,
    "resolution": 32,
    "scale": 120944.64
   },
   {
    "level": 7,
    "resolution": 16,
    "scale": 60472.32
   },
   {
    "level": 8,
    "resolution": 8,
    "scale": 30236.16
   },
   {
    "level": 9,
    "resolution": 4,
    "scale": 15118.08
   },
   {
    "level": 10,
    "resolution": 2,
    "scale": 7559.04
   },
   {
    "level": 11,
    "resolution": 1,
    "scale": 3779.52
   },
   {
    "level": 12,
    "resolution": 0.5,
    "scale": 1889.76
   },
   {
    "level": 13,
    "resolution": 0.25,
    "scale": 944.88
   },
   {
    "level": 14,
    "resolution": 0.125,
    "scale": 472.44
   },
   {
    "level": 15,
    "resolution": 0.0625,
    "scale": 236.22
   },
   {
    "level": 16,
    "resolution": 0.03125,
    "scale": 118.11
   },
   {
    "level": 17,
    "resolution": 0.015625,
    "scale": 59.055
   },
   {
    "level": 18,
    "resolution": 0.00781263229193125,
    "scale": 29.528
   },
   {
    "level": 19,
    "resolution": 0.003906316145965625,
    "scale": 14.764
   }
  ]
 },
 "storageInfo": {
  "storageFormat": "esriMapCacheStorageModeCompactV2",
  "packetSize": 128
 },
 "initialExtent": {
  "xmin": 101897.58810579596,
  "ymin": 187844.4455771813,
  "xmax": 847671.3815135839,
  "ymax": 713368.3132275719,
  "spatialReference": {
   "wkid": 3057,
   "latestWkid": 3057,
   "xyTolerance": 0.001,
   "zTolerance": 0.001,
   "mTolerance": 0.001,
   "falseX": -34541500,
   "falseY": -31559400,
   "xyUnits": 10000,
   "falseZ": 0,
   "zUnits": 1,
   "falseM": 0,
   "mUnits": 1
  }
 },
 "fullExtent": {
  "xmin": -34541500,
  "ymin": -31559400,
  "xmax": 751910.7179873625,
  "ymax": 674996.6612000018,
  "spatialReference": {
   "wkid": 3057,
   "latestWkid": 3057,
   "xyTolerance": 0.001,
   "zTolerance": 0.001,
   "mTolerance": 0.001,
   "falseX": -34541500,
   "falseY": -31559400,
   "xyUnits": 10000,
   "falseZ": 0,
   "zUnits": 1,
   "falseM": 0,
   "mUnits": 1
  }
 },
 "datesInUnknownTimezone": false,
 "minScale": 29.528,
 "maxScale": 14.764,
 "units": "esriMeters",
 "supportedImageFormatTypes": "PNG32,PNG24,PNG,JPG,DIB,TIFF,EMF,PS,PDF,GIF,SVG,SVGZ,BMP",
 "documentInfo": {
  "Title": "MyProject40.aprx",
  "Author": "",
  "Comments": "ÍSOR hefur gefið út jarðfræðikort í mælikvarðanum 1:100 000. Kortin byggjast á fjölmörgum jarðfræðikortum í stærri mælikvarða, sem unnin hafa verið fyrir verkkaupa ÍSOR og forvera þeirra, auk þess á eldri útgefnum yfirlitskortum. \n\nVefþjónustan er hluti af átaksverkefni í jarðfræðikortlagningu Íslands sem umhverfis- og auðlindaráðuneytið (UAR) hefur staðið að síðan 2018 í samtarfi við Íslenskar orkurannsóknir (ÍSOR) og Náttúrufræðistofnun Íslands (NÍ). \n\nFrekari upplýsingar má fá hjá ÍSOR í tölvupósti",
  "Subject": "Samantekt á gögnum sem sýnd eru á jarðfræðikortum ÍSOR",
  "Category": "",
  "Version": "3.2.0",
  "AntialiasingMode": "Fast",
  "TextAntialiasingMode": "Force",
  "Keywords": "jardfræði,Ísland,Iceland"
 },
 "supportsQueryDomains": true,
 "capabilities": "Map,Query,Data",
 "supportedQueryFormats": "JSON, geoJSON, PBF",
 "hasVersionedData": true,
 "exportTilesAllowed": false,
 "referenceScale": 0.0,
 "datumTransformations": [
  {
   "geoTransforms": [
    {
     "wkid": 1952,
     "latestWkid": 1952,
     "transformForward": false,
     "name": "ISN_1993_To_WGS_1984_1"
    }
   ]
  },
  {
   "geoTransforms": [
    {
     "wkid": 1952,
     "latestWkid": 1952,
     "transformForward": true,
     "name": "ISN_1993_To_WGS_1984_1"
    }
   ]
  }
 ],
 "supportsDatumTransformation": true,
 "floorAwareMapProperties": {
  "defaultFloorFilterSettings": {
   "isEnabled": false
  }
 },
 "archivingInfo": {
  "supportsHistoricMoment": false
 },
 "supportsClipping": true,
 "supportsSpatialFilter": true,
 "supportsTimeRelation": true,
 "supportsQueryDataElements": true,
 "mapUnits": {
  "uwkid": 9001
 },
 "maxRecordCount": 2000,
 "maxImageHeight": 4096,
 "maxImageWidth": 4096,
 "supportedExtensions": "",
 "resampling": false,
 "serviceItemId": "ae6786e9f3484673ad6e48d0cafa07e0"
}
