{
 "currentVersion": 11.3,
 "cimVersion": "3.3.0",
 "serviceDescription": "",
 "mapName": "Map3",
 "description": "",
 "copyrightText": "",
 "supportsDynamicLayers": false,
 "layers": [
  {
   "id": 0,
   "name": "3695-009-LOF-1106-V01-GRV-Sprungusveimur-010-240607.jpg",
   "parentLayerId": -1,
   "defaultVisibility": true,
   "subLayerIds": null,
   "minScale": 0,
   "maxScale": 0,
   "type": "Raster Layer",
   "supportsDynamicLegends": true
  }
 ],
 "tables": [],
 "spatialReference": {
  "wkid": 3057,
  "latestWkid": 3057,
  "xyTolerance": 0.001,
  "zTolerance": 0.001,
  "mTolerance": 0.001,
  "falseX": -34541500,
  "falseY": -31559400,
  "xyUnits": 10000,
  "falseZ": -100000,
  "zUnits": 10000,
  "falseM": -100000,
  "mUnits": 10000
 },
 "singleFusedMapCache": true,
 "tileInfo": {
  "rows": 256,
  "cols": 256,
  "dpi": 96,
  "format": "Mixed",
  "compressionQuality": 75,
  "origin": {
   "x": -3.454131801753869E7,
   "y": 3.777026667149625E7
  },
  "spatialReference": {
   "wkid": 3057,
   "latestWkid": 3057,
   "xyTolerance": 0.001,
   "zTolerance": 0.001,
   "mTolerance": 0.001,
   "falseX": -34541500,
   "falseY": -31559400,
   "xyUnits": 10000,
   "falseZ": -100000,
   "zUnits": 10000,
   "falseM": -100000,
   "mUnits": 10000
  },
  "lods": [
   {
    "level": 0,
    "resolution": 273760.297012021,
    "scale": 1.0346845871320478E9
   },
   {
    "level": 1,
    "resolution": 136880.1485060105,
    "scale": 5.173422935660239E8
   },
   {
    "level": 2,
    "resolution": 68440.07425300525,
    "scale": 2.5867114678301194E8
   },
   {
    "level": 3,
    "resolution": 34220.037126502626,
    "scale": 1.2933557339150597E8
   },
   {
    "level": 4,
    "resolution": 17110.018563251313,
    "scale": 6.4667786695752986E7
   },
   {
    "level": 5,
    "resolution": 8555.009281625657,
    "scale": 3.2333893347876493E7
   },
   {
    "level": 6,
    "resolution": 4277.504640812828,
    "scale": 1.6166946673938246E7
   },
   {
    "level": 7,
    "resolution": 2138.752320406414,
    "scale": 8083473.336969123
   },
   {
    "level": 8,
    "resolution": 1069.376160203207,
    "scale": 4041736.6684845616
   },
   {
    "level": 9,
    "resolution": 534.6880801016035,
    "scale": 2020868.3342422808
   },
   {
    "level": 10,
    "resolution": 267.34404005080177,
    "scale": 1010434.1671211404
   },
   {
    "level": 11,
    "resolution": 133.67202002540088,
    "scale": 505217.0835605702
   },
   {
    "level": 12,
    "resolution": 66.83601001270044,
    "scale": 252608.5417802851
   },
   {
    "level": 13,
    "resolution": 33.41800500635022,
    "scale": 126304.27089014255
   },
   {
    "level": 14,
    "resolution": 16.70900250317511,
    "scale": 63152.135445071275
   },
   {
    "level": 15,
    "resolution": 8.354501251587555,
    "scale": 31576.067722535638
   },
   {
    "level": 16,
    "resolution": 4.177250625793778,
    "scale": 15788.033861267819
   },
   {
    "level": 17,
    "resolution": 2.088625312896889,
    "scale": 7894.016930633909
   },
   {
    "level": 18,
    "resolution": 1.0443126564484444,
    "scale": 3947.0084653169547
   }
  ]
 },
 "storageInfo": {
  "storageFormat": "esriMapCacheStorageModeCompactV2",
  "packetSize": 128
 },
 "initialExtent": {
  "xmin": 330323.19349662494,
  "ymin": 374129.46428666747,
  "xmax": 332748.69349662494,
  "ymax": 376886.8113015928,
  "spatialReference": {
   "wkid": 3057,
   "latestWkid": 3057,
   "xyTolerance": 0.001,
   "zTolerance": 0.001,
   "mTolerance": 0.001,
   "falseX": -34541500,
   "falseY": -31559400,
   "xyUnits": 10000,
   "falseZ": -100000,
   "zUnits": 10000,
   "falseM": -100000,
   "mUnits": 10000
  }
 },
 "fullExtent": {
  "xmin": 330433.44349662494,
  "ymin": 374473.7877941301,
  "xmax": 332638.44349662494,
  "ymax": 376542.4877941301,
  "spatialReference": {
   "wkid": 3057,
   "latestWkid": 3057,
   "xyTolerance": 0.001,
   "zTolerance": 0.001,
   "mTolerance": 0.001,
   "falseX": -34541500,
   "falseY": -31559400,
   "xyUnits": 10000,
   "falseZ": -100000,
   "zUnits": 10000,
   "falseM": -100000,
   "mUnits": 10000
  }
 },
 "datesInUnknownTimezone": false,
 "units": "esriMeters",
 "supportedImageFormatTypes": "PNG32,PNG24,PNG,JPG,DIB,TIFF,EMF,PS,PDF,GIF,SVG,SVGZ,BMP",
 "documentInfo": {
  "Title": "Map3",
  "Author": "",
  "Comments": "",
  "Subject": "",
  "Category": "",
  "Version": "3.3.0",
  "AntialiasingMode": "Fast",
  "TextAntialiasingMode": "Force",
  "Keywords": ""
 },
 "supportsQueryDomains": true,
 "supportedQueryFormats": "JSON, geoJSON, PBF",
 "referenceScale": 0.0,
 "supportsDatumTransformation": true,
 "archivingInfo": {
  "supportsHistoricMoment": false
 },
 "supportsClipping": true,
 "supportsSpatialFilter": true,
 "supportsTimeRelation": true,
 "supportsQueryDataElements": true,
 "mapUnits": {
  "uwkid": 9001
 },
 "maxRecordCount": 1000,
 "maxImageHeight": 4096,
 "maxImageWidth": 4096,
 "capabilities": "TilesOnly,Tilemap",
 "minScale": 15788,
 "maxScale": 517,
 "exportTilesAllowed": true,
 "maxExportTilesCount": 100000,
 "minLOD": 16,
 "maxLOD": 18,
 "supportedExtensions": "",
 "serviceItemId": "3ef742d07bec4cb09ad56f39c6dbfaa7"
}
